BEGIN:VCALENDAR
VERSION:2.0
PRODID:-//ABC of Utah - ECPv6.15.20//NONSGML v1.0//EN
CALSCALE:GREGORIAN
METHOD:PUBLISH
X-WR-CALNAME:ABC of Utah
X-ORIGINAL-URL:https://abcutah.org
X-WR-CALDESC:Events for ABC of Utah
REFRESH-INTERVAL;VALUE=DURATION:PT1H
X-Robots-Tag:noindex
X-PUBLISHED-TTL:PT1H
BEGIN:VTIMEZONE
TZID:America/Denver
BEGIN:DAYLIGHT
TZOFFSETFROM:-0700
TZOFFSETTO:-0600
TZNAME:MDT
DTSTART:20250309T090000
END:DAYLIGHT
BEGIN:STANDARD
TZOFFSETFROM:-0600
TZOFFSETTO:-0700
TZNAME:MST
DTSTART:20251102T080000
END:STANDARD
BEGIN:DAYLIGHT
TZOFFSETFROM:-0700
TZOFFSETTO:-0600
TZNAME:MDT
DTSTART:20260308T090000
END:DAYLIGHT
BEGIN:STANDARD
TZOFFSETFROM:-0600
TZOFFSETTO:-0700
TZNAME:MST
DTSTART:20261101T080000
END:STANDARD
BEGIN:DAYLIGHT
TZOFFSETFROM:-0700
TZOFFSETTO:-0600
TZNAME:MDT
DTSTART:20270314T090000
END:DAYLIGHT
BEGIN:STANDARD
TZOFFSETFROM:-0600
TZOFFSETTO:-0700
TZNAME:MST
DTSTART:20271107T080000
END:STANDARD
BEGIN:DAYLIGHT
TZOFFSETFROM:-0700
TZOFFSETTO:-0600
TZNAME:MDT
DTSTART:20280312T090000
END:DAYLIGHT
BEGIN:STANDARD
TZOFFSETFROM:-0600
TZOFFSETTO:-0700
TZNAME:MST
DTSTART:20281105T080000
END:STANDARD
BEGIN:DAYLIGHT
TZOFFSETFROM:-0700
TZOFFSETTO:-0600
TZNAME:MDT
DTSTART:20290311T090000
END:DAYLIGHT
BEGIN:STANDARD
TZOFFSETFROM:-0600
TZOFFSETTO:-0700
TZNAME:MST
DTSTART:20291104T080000
END:STANDARD
END:VTIMEZONE
BEGIN:VEVENT
DTSTART;TZID=America/Denver:20260505T100000
DTEND;TZID=America/Denver:20260505T110000
DTSTAMP:20260423T091519
CREATED:20240430T165423Z
LAST-MODIFIED:20240430T165434Z
UID:10000768-1777975200-1777978800@abcutah.org
SUMMARY:Safety Committee Meeting
DESCRIPTION:
URL:https://abcutah.org/event/safety-committee-meeting-2/2026-05-05/
LOCATION:ABC of Utah\, 660 W 900 N Suite B\, North Salt Lake\, UT\, United States
CATEGORIES:Committees
END:VEVENT
BEGIN:VEVENT
DTSTART;TZID=America/Denver:20260602T100000
DTEND;TZID=America/Denver:20260602T110000
DTSTAMP:20260423T091519
CREATED:20240430T165423Z
LAST-MODIFIED:20240430T165434Z
UID:10000769-1780394400-1780398000@abcutah.org
SUMMARY:Safety Committee Meeting
DESCRIPTION:
URL:https://abcutah.org/event/safety-committee-meeting-2/2026-06-02/
LOCATION:ABC of Utah\, 660 W 900 N Suite B\, North Salt Lake\, UT\, United States
CATEGORIES:Committees
END:VEVENT
BEGIN:VEVENT
DTSTART;TZID=America/Denver:20260707T100000
DTEND;TZID=America/Denver:20260707T110000
DTSTAMP:20260423T091519
CREATED:20240430T165423Z
LAST-MODIFIED:20240430T165434Z
UID:10000770-1783418400-1783422000@abcutah.org
SUMMARY:Safety Committee Meeting
DESCRIPTION:
URL:https://abcutah.org/event/safety-committee-meeting-2/2026-07-07/
LOCATION:ABC of Utah\, 660 W 900 N Suite B\, North Salt Lake\, UT\, United States
CATEGORIES:Committees
END:VEVENT
BEGIN:VEVENT
DTSTART;TZID=America/Denver:20260804T100000
DTEND;TZID=America/Denver:20260804T110000
DTSTAMP:20260423T091519
CREATED:20240430T165423Z
LAST-MODIFIED:20240430T165434Z
UID:10000771-1785837600-1785841200@abcutah.org
SUMMARY:Safety Committee Meeting
DESCRIPTION:
URL:https://abcutah.org/event/safety-committee-meeting-2/2026-08-04/
LOCATION:ABC of Utah\, 660 W 900 N Suite B\, North Salt Lake\, UT\, United States
CATEGORIES:Committees
END:VEVENT
BEGIN:VEVENT
DTSTART;TZID=America/Denver:20260901T100000
DTEND;TZID=America/Denver:20260901T110000
DTSTAMP:20260423T091519
CREATED:20240430T165423Z
LAST-MODIFIED:20240430T165434Z
UID:10000772-1788256800-1788260400@abcutah.org
SUMMARY:Safety Committee Meeting
DESCRIPTION:
URL:https://abcutah.org/event/safety-committee-meeting-2/2026-09-01/
LOCATION:ABC of Utah\, 660 W 900 N Suite B\, North Salt Lake\, UT\, United States
CATEGORIES:Committees
END:VEVENT
BEGIN:VEVENT
DTSTART;TZID=America/Denver:20261006T100000
DTEND;TZID=America/Denver:20261006T110000
DTSTAMP:20260423T091519
CREATED:20240430T165423Z
LAST-MODIFIED:20240430T165434Z
UID:10000773-1791280800-1791284400@abcutah.org
SUMMARY:Safety Committee Meeting
DESCRIPTION:
URL:https://abcutah.org/event/safety-committee-meeting-2/2026-10-06/
LOCATION:ABC of Utah\, 660 W 900 N Suite B\, North Salt Lake\, UT\, United States
CATEGORIES:Committees
END:VEVENT
BEGIN:VEVENT
DTSTART;TZID=America/Denver:20261103T100000
DTEND;TZID=America/Denver:20261103T110000
DTSTAMP:20260423T091519
CREATED:20240430T165423Z
LAST-MODIFIED:20240430T165434Z
UID:10000774-1793700000-1793703600@abcutah.org
SUMMARY:Safety Committee Meeting
DESCRIPTION:
URL:https://abcutah.org/event/safety-committee-meeting-2/2026-11-03/
LOCATION:ABC of Utah\, 660 W 900 N Suite B\, North Salt Lake\, UT\, United States
CATEGORIES:Committees
END:VEVENT
BEGIN:VEVENT
DTSTART;TZID=America/Denver:20261201T100000
DTEND;TZID=America/Denver:20261201T110000
DTSTAMP:20260423T091519
CREATED:20240430T165423Z
LAST-MODIFIED:20240430T165434Z
UID:10000775-1796119200-1796122800@abcutah.org
SUMMARY:Safety Committee Meeting
DESCRIPTION:
URL:https://abcutah.org/event/safety-committee-meeting-2/2026-12-01/
LOCATION:ABC of Utah\, 660 W 900 N Suite B\, North Salt Lake\, UT\, United States
CATEGORIES:Committees
END:VEVENT
BEGIN:VEVENT
DTSTART;TZID=America/Denver:20270105T100000
DTEND;TZID=America/Denver:20270105T110000
DTSTAMP:20260423T091519
CREATED:20240430T165423Z
LAST-MODIFIED:20240430T165434Z
UID:10000776-1799143200-1799146800@abcutah.org
SUMMARY:Safety Committee Meeting
DESCRIPTION:
URL:https://abcutah.org/event/safety-committee-meeting-2/2027-01-05/
LOCATION:ABC of Utah\, 660 W 900 N Suite B\, North Salt Lake\, UT\, United States
CATEGORIES:Committees
END:VEVENT
BEGIN:VEVENT
DTSTART;TZID=America/Denver:20270202T100000
DTEND;TZID=America/Denver:20270202T110000
DTSTAMP:20260423T091519
CREATED:20240430T165423Z
LAST-MODIFIED:20240430T165434Z
UID:10000777-1801562400-1801566000@abcutah.org
SUMMARY:Safety Committee Meeting
DESCRIPTION:
URL:https://abcutah.org/event/safety-committee-meeting-2/2027-02-02/
LOCATION:ABC of Utah\, 660 W 900 N Suite B\, North Salt Lake\, UT\, United States
CATEGORIES:Committees
END:VEVENT
BEGIN:VEVENT
DTSTART;TZID=America/Denver:20270302T100000
DTEND;TZID=America/Denver:20270302T110000
DTSTAMP:20260423T091519
CREATED:20240430T165423Z
LAST-MODIFIED:20240430T165434Z
UID:10000778-1803981600-1803985200@abcutah.org
SUMMARY:Safety Committee Meeting
DESCRIPTION:
URL:https://abcutah.org/event/safety-committee-meeting-2/2027-03-02/
LOCATION:ABC of Utah\, 660 W 900 N Suite B\, North Salt Lake\, UT\, United States
CATEGORIES:Committees
END:VEVENT
BEGIN:VEVENT
DTSTART;TZID=America/Denver:20270406T100000
DTEND;TZID=America/Denver:20270406T110000
DTSTAMP:20260423T091519
CREATED:20240430T165423Z
LAST-MODIFIED:20240430T165434Z
UID:10000779-1807005600-1807009200@abcutah.org
SUMMARY:Safety Committee Meeting
DESCRIPTION:
URL:https://abcutah.org/event/safety-committee-meeting-2/2027-04-06/
LOCATION:ABC of Utah\, 660 W 900 N Suite B\, North Salt Lake\, UT\, United States
CATEGORIES:Committees
END:VEVENT
BEGIN:VEVENT
DTSTART;TZID=America/Denver:20270504T100000
DTEND;TZID=America/Denver:20270504T110000
DTSTAMP:20260423T091519
CREATED:20240430T165423Z
LAST-MODIFIED:20240430T165434Z
UID:10000780-1809424800-1809428400@abcutah.org
SUMMARY:Safety Committee Meeting
DESCRIPTION:
URL:https://abcutah.org/event/safety-committee-meeting-2/2027-05-04/
LOCATION:ABC of Utah\, 660 W 900 N Suite B\, North Salt Lake\, UT\, United States
CATEGORIES:Committees
END:VEVENT
BEGIN:VEVENT
DTSTART;TZID=America/Denver:20270601T100000
DTEND;TZID=America/Denver:20270601T110000
DTSTAMP:20260423T091519
CREATED:20240430T165423Z
LAST-MODIFIED:20240430T165434Z
UID:10000781-1811844000-1811847600@abcutah.org
SUMMARY:Safety Committee Meeting
DESCRIPTION:
URL:https://abcutah.org/event/safety-committee-meeting-2/2027-06-01/
LOCATION:ABC of Utah\, 660 W 900 N Suite B\, North Salt Lake\, UT\, United States
CATEGORIES:Committees
END:VEVENT
BEGIN:VEVENT
DTSTART;TZID=America/Denver:20270706T100000
DTEND;TZID=America/Denver:20270706T110000
DTSTAMP:20260423T091519
CREATED:20240430T165423Z
LAST-MODIFIED:20240430T165434Z
UID:10000782-1814868000-1814871600@abcutah.org
SUMMARY:Safety Committee Meeting
DESCRIPTION:
URL:https://abcutah.org/event/safety-committee-meeting-2/2027-07-06/
LOCATION:ABC of Utah\, 660 W 900 N Suite B\, North Salt Lake\, UT\, United States
CATEGORIES:Committees
END:VEVENT
BEGIN:VEVENT
DTSTART;TZID=America/Denver:20270803T100000
DTEND;TZID=America/Denver:20270803T110000
DTSTAMP:20260423T091519
CREATED:20240430T165423Z
LAST-MODIFIED:20240430T165434Z
UID:10000783-1817287200-1817290800@abcutah.org
SUMMARY:Safety Committee Meeting
DESCRIPTION:
URL:https://abcutah.org/event/safety-committee-meeting-2/2027-08-03/
LOCATION:ABC of Utah\, 660 W 900 N Suite B\, North Salt Lake\, UT\, United States
CATEGORIES:Committees
END:VEVENT
BEGIN:VEVENT
DTSTART;TZID=America/Denver:20270907T100000
DTEND;TZID=America/Denver:20270907T110000
DTSTAMP:20260423T091519
CREATED:20240430T165423Z
LAST-MODIFIED:20240430T165434Z
UID:10000784-1820311200-1820314800@abcutah.org
SUMMARY:Safety Committee Meeting
DESCRIPTION:
URL:https://abcutah.org/event/safety-committee-meeting-2/2027-09-07/
LOCATION:ABC of Utah\, 660 W 900 N Suite B\, North Salt Lake\, UT\, United States
CATEGORIES:Committees
END:VEVENT
BEGIN:VEVENT
DTSTART;TZID=America/Denver:20271005T100000
DTEND;TZID=America/Denver:20271005T110000
DTSTAMP:20260423T091519
CREATED:20240430T165423Z
LAST-MODIFIED:20240430T165434Z
UID:10000785-1822730400-1822734000@abcutah.org
SUMMARY:Safety Committee Meeting
DESCRIPTION:
URL:https://abcutah.org/event/safety-committee-meeting-2/2027-10-05/
LOCATION:ABC of Utah\, 660 W 900 N Suite B\, North Salt Lake\, UT\, United States
CATEGORIES:Committees
END:VEVENT
BEGIN:VEVENT
DTSTART;TZID=America/Denver:20271102T100000
DTEND;TZID=America/Denver:20271102T110000
DTSTAMP:20260423T091519
CREATED:20240430T165423Z
LAST-MODIFIED:20240430T165434Z
UID:10000786-1825149600-1825153200@abcutah.org
SUMMARY:Safety Committee Meeting
DESCRIPTION:
URL:https://abcutah.org/event/safety-committee-meeting-2/2027-11-02/
LOCATION:ABC of Utah\, 660 W 900 N Suite B\, North Salt Lake\, UT\, United States
CATEGORIES:Committees
END:VEVENT
BEGIN:VEVENT
DTSTART;TZID=America/Denver:20271207T100000
DTEND;TZID=America/Denver:20271207T110000
DTSTAMP:20260423T091519
CREATED:20240430T165423Z
LAST-MODIFIED:20240430T165434Z
UID:10000787-1828173600-1828177200@abcutah.org
SUMMARY:Safety Committee Meeting
DESCRIPTION:
URL:https://abcutah.org/event/safety-committee-meeting-2/2027-12-07/
LOCATION:ABC of Utah\, 660 W 900 N Suite B\, North Salt Lake\, UT\, United States
CATEGORIES:Committees
END:VEVENT
BEGIN:VEVENT
DTSTART;TZID=America/Denver:20280104T100000
DTEND;TZID=America/Denver:20280104T110000
DTSTAMP:20260423T091519
CREATED:20240430T165423Z
LAST-MODIFIED:20240430T165434Z
UID:10000788-1830592800-1830596400@abcutah.org
SUMMARY:Safety Committee Meeting
DESCRIPTION:
URL:https://abcutah.org/event/safety-committee-meeting-2/2028-01-04/
LOCATION:ABC of Utah\, 660 W 900 N Suite B\, North Salt Lake\, UT\, United States
CATEGORIES:Committees
END:VEVENT
BEGIN:VEVENT
DTSTART;TZID=America/Denver:20280201T100000
DTEND;TZID=America/Denver:20280201T110000
DTSTAMP:20260423T091519
CREATED:20240430T165423Z
LAST-MODIFIED:20240430T165434Z
UID:10000789-1833012000-1833015600@abcutah.org
SUMMARY:Safety Committee Meeting
DESCRIPTION:
URL:https://abcutah.org/event/safety-committee-meeting-2/2028-02-01/
LOCATION:ABC of Utah\, 660 W 900 N Suite B\, North Salt Lake\, UT\, United States
CATEGORIES:Committees
END:VEVENT
BEGIN:VEVENT
DTSTART;TZID=America/Denver:20280307T100000
DTEND;TZID=America/Denver:20280307T110000
DTSTAMP:20260423T091519
CREATED:20240430T165423Z
LAST-MODIFIED:20240430T165434Z
UID:10000790-1836036000-1836039600@abcutah.org
SUMMARY:Safety Committee Meeting
DESCRIPTION:
URL:https://abcutah.org/event/safety-committee-meeting-2/2028-03-07/
LOCATION:ABC of Utah\, 660 W 900 N Suite B\, North Salt Lake\, UT\, United States
CATEGORIES:Committees
END:VEVENT
BEGIN:VEVENT
DTSTART;TZID=America/Denver:20280404T100000
DTEND;TZID=America/Denver:20280404T110000
DTSTAMP:20260423T091519
CREATED:20240430T165423Z
LAST-MODIFIED:20240430T165434Z
UID:10000791-1838455200-1838458800@abcutah.org
SUMMARY:Safety Committee Meeting
DESCRIPTION:
URL:https://abcutah.org/event/safety-committee-meeting-2/2028-04-04/
LOCATION:ABC of Utah\, 660 W 900 N Suite B\, North Salt Lake\, UT\, United States
CATEGORIES:Committees
END:VEVENT
BEGIN:VEVENT
DTSTART;TZID=America/Denver:20280502T100000
DTEND;TZID=America/Denver:20280502T110000
DTSTAMP:20260423T091519
CREATED:20240430T165423Z
LAST-MODIFIED:20240430T165434Z
UID:10000792-1840874400-1840878000@abcutah.org
SUMMARY:Safety Committee Meeting
DESCRIPTION:
URL:https://abcutah.org/event/safety-committee-meeting-2/2028-05-02/
LOCATION:ABC of Utah\, 660 W 900 N Suite B\, North Salt Lake\, UT\, United States
CATEGORIES:Committees
END:VEVENT
BEGIN:VEVENT
DTSTART;TZID=America/Denver:20280606T100000
DTEND;TZID=America/Denver:20280606T110000
DTSTAMP:20260423T091519
CREATED:20240430T165423Z
LAST-MODIFIED:20240430T165434Z
UID:10000793-1843898400-1843902000@abcutah.org
SUMMARY:Safety Committee Meeting
DESCRIPTION:
URL:https://abcutah.org/event/safety-committee-meeting-2/2028-06-06/
LOCATION:ABC of Utah\, 660 W 900 N Suite B\, North Salt Lake\, UT\, United States
CATEGORIES:Committees
END:VEVENT
BEGIN:VEVENT
DTSTART;TZID=America/Denver:20280704T100000
DTEND;TZID=America/Denver:20280704T110000
DTSTAMP:20260423T091519
CREATED:20240430T165423Z
LAST-MODIFIED:20240430T165434Z
UID:10000794-1846317600-1846321200@abcutah.org
SUMMARY:Safety Committee Meeting
DESCRIPTION:
URL:https://abcutah.org/event/safety-committee-meeting-2/2028-07-04/
LOCATION:ABC of Utah\, 660 W 900 N Suite B\, North Salt Lake\, UT\, United States
CATEGORIES:Committees
END:VEVENT
BEGIN:VEVENT
DTSTART;TZID=America/Denver:20280801T100000
DTEND;TZID=America/Denver:20280801T110000
DTSTAMP:20260423T091519
CREATED:20240430T165423Z
LAST-MODIFIED:20240430T165434Z
UID:10000795-1848736800-1848740400@abcutah.org
SUMMARY:Safety Committee Meeting
DESCRIPTION:
URL:https://abcutah.org/event/safety-committee-meeting-2/2028-08-01/
LOCATION:ABC of Utah\, 660 W 900 N Suite B\, North Salt Lake\, UT\, United States
CATEGORIES:Committees
END:VEVENT
BEGIN:VEVENT
DTSTART;TZID=America/Denver:20280905T100000
DTEND;TZID=America/Denver:20280905T110000
DTSTAMP:20260423T091519
CREATED:20240430T165423Z
LAST-MODIFIED:20240430T165434Z
UID:10000796-1851760800-1851764400@abcutah.org
SUMMARY:Safety Committee Meeting
DESCRIPTION:
URL:https://abcutah.org/event/safety-committee-meeting-2/2028-09-05/
LOCATION:ABC of Utah\, 660 W 900 N Suite B\, North Salt Lake\, UT\, United States
CATEGORIES:Committees
END:VEVENT
BEGIN:VEVENT
DTSTART;TZID=America/Denver:20281003T100000
DTEND;TZID=America/Denver:20281003T110000
DTSTAMP:20260423T091519
CREATED:20240430T165423Z
LAST-MODIFIED:20240430T165434Z
UID:10000797-1854180000-1854183600@abcutah.org
SUMMARY:Safety Committee Meeting
DESCRIPTION:
URL:https://abcutah.org/event/safety-committee-meeting-2/2028-10-03/
LOCATION:ABC of Utah\, 660 W 900 N Suite B\, North Salt Lake\, UT\, United States
CATEGORIES:Committees
END:VEVENT
END:VCALENDAR