BEGIN:VCALENDAR
VERSION:2.0
PRODID:-//ABC of Utah - ECPv6.15.20//NONSGML v1.0//EN
CALSCALE:GREGORIAN
METHOD:PUBLISH
X-WR-CALNAME:ABC of Utah
X-ORIGINAL-URL:https://abcutah.org
X-WR-CALDESC:Events for ABC of Utah
REFRESH-INTERVAL;VALUE=DURATION:PT1H
X-Robots-Tag:noindex
X-PUBLISHED-TTL:PT1H
BEGIN:VTIMEZONE
TZID:America/Denver
BEGIN:DAYLIGHT
TZOFFSETFROM:-0700
TZOFFSETTO:-0600
TZNAME:MDT
DTSTART:20280312T090000
END:DAYLIGHT
BEGIN:STANDARD
TZOFFSETFROM:-0600
TZOFFSETTO:-0700
TZNAME:MST
DTSTART:20281105T080000
END:STANDARD
BEGIN:DAYLIGHT
TZOFFSETFROM:-0700
TZOFFSETTO:-0600
TZNAME:MDT
DTSTART:20290311T090000
END:DAYLIGHT
BEGIN:STANDARD
TZOFFSETFROM:-0600
TZOFFSETTO:-0700
TZNAME:MST
DTSTART:20291104T080000
END:STANDARD
BEGIN:DAYLIGHT
TZOFFSETFROM:-0700
TZOFFSETTO:-0600
TZNAME:MDT
DTSTART:20300310T090000
END:DAYLIGHT
BEGIN:STANDARD
TZOFFSETFROM:-0600
TZOFFSETTO:-0700
TZNAME:MST
DTSTART:20301103T080000
END:STANDARD
BEGIN:DAYLIGHT
TZOFFSETFROM:-0700
TZOFFSETTO:-0600
TZNAME:MDT
DTSTART:20310309T090000
END:DAYLIGHT
BEGIN:STANDARD
TZOFFSETFROM:-0600
TZOFFSETTO:-0700
TZNAME:MST
DTSTART:20311102T080000
END:STANDARD
BEGIN:DAYLIGHT
TZOFFSETFROM:-0700
TZOFFSETTO:-0600
TZNAME:MDT
DTSTART:20320314T090000
END:DAYLIGHT
BEGIN:STANDARD
TZOFFSETFROM:-0600
TZOFFSETTO:-0700
TZNAME:MST
DTSTART:20321107T080000
END:STANDARD
END:VTIMEZONE
BEGIN:VEVENT
DTSTART;TZID=America/Denver:20291106T100000
DTEND;TZID=America/Denver:20291106T110000
DTSTAMP:20260423T180941
CREATED:20240430T165423Z
LAST-MODIFIED:20240430T165434Z
UID:10000989-1888653600-1888657200@abcutah.org
SUMMARY:Safety Committee Meeting
DESCRIPTION:
URL:https://abcutah.org/event/safety-committee-meeting-2/2029-11-06/
LOCATION:ABC of Utah\, 660 W 900 N Suite B\, North Salt Lake\, UT\, United States
CATEGORIES:Committees
END:VEVENT
BEGIN:VEVENT
DTSTART;TZID=America/Denver:20291120T103000
DTEND;TZID=America/Denver:20291120T113000
DTSTAMP:20260423T180941
CREATED:20240430T165602Z
LAST-MODIFIED:20240430T165613Z
UID:10001014-1889865000-1889868600@abcutah.org
SUMMARY:Women in Construction Committee
DESCRIPTION:
URL:https://abcutah.org/event/women-in-construction-forum-2/2029-11-20/
LOCATION:UT
CATEGORIES:Committees
END:VEVENT
BEGIN:VEVENT
DTSTART;TZID=America/Denver:20291204T100000
DTEND;TZID=America/Denver:20291204T110000
DTSTAMP:20260423T180941
CREATED:20240430T165423Z
LAST-MODIFIED:20240430T165434Z
UID:10000990-1891072800-1891076400@abcutah.org
SUMMARY:Safety Committee Meeting
DESCRIPTION:
URL:https://abcutah.org/event/safety-committee-meeting-2/2029-12-04/
LOCATION:ABC of Utah\, 660 W 900 N Suite B\, North Salt Lake\, UT\, United States
CATEGORIES:Committees
END:VEVENT
BEGIN:VEVENT
DTSTART;TZID=America/Denver:20291218T103000
DTEND;TZID=America/Denver:20291218T113000
DTSTAMP:20260423T180941
CREATED:20240430T165602Z
LAST-MODIFIED:20240430T165613Z
UID:10001015-1892284200-1892287800@abcutah.org
SUMMARY:Women in Construction Committee
DESCRIPTION:
URL:https://abcutah.org/event/women-in-construction-forum-2/2029-12-18/
LOCATION:UT
CATEGORIES:Committees
END:VEVENT
BEGIN:VEVENT
DTSTART;TZID=America/Denver:20300101T100000
DTEND;TZID=America/Denver:20300101T110000
DTSTAMP:20260423T180941
CREATED:20240430T165423Z
LAST-MODIFIED:20240430T165434Z
UID:10000991-1893492000-1893495600@abcutah.org
SUMMARY:Safety Committee Meeting
DESCRIPTION:
URL:https://abcutah.org/event/safety-committee-meeting-2/2030-01-01/
LOCATION:ABC of Utah\, 660 W 900 N Suite B\, North Salt Lake\, UT\, United States
CATEGORIES:Committees
END:VEVENT
BEGIN:VEVENT
DTSTART;TZID=America/Denver:20300115T103000
DTEND;TZID=America/Denver:20300115T113000
DTSTAMP:20260423T180941
CREATED:20240430T165602Z
LAST-MODIFIED:20240430T165613Z
UID:10001016-1894703400-1894707000@abcutah.org
SUMMARY:Women in Construction Committee
DESCRIPTION:
URL:https://abcutah.org/event/women-in-construction-forum-2/2030-01-15/
LOCATION:UT
CATEGORIES:Committees
END:VEVENT
BEGIN:VEVENT
DTSTART;TZID=America/Denver:20300205T100000
DTEND;TZID=America/Denver:20300205T110000
DTSTAMP:20260423T180941
CREATED:20240430T165423Z
LAST-MODIFIED:20240430T165434Z
UID:10000992-1896516000-1896519600@abcutah.org
SUMMARY:Safety Committee Meeting
DESCRIPTION:
URL:https://abcutah.org/event/safety-committee-meeting-2/2030-02-05/
LOCATION:ABC of Utah\, 660 W 900 N Suite B\, North Salt Lake\, UT\, United States
CATEGORIES:Committees
END:VEVENT
BEGIN:VEVENT
DTSTART;TZID=America/Denver:20300219T103000
DTEND;TZID=America/Denver:20300219T113000
DTSTAMP:20260423T180941
CREATED:20240430T165602Z
LAST-MODIFIED:20240430T165613Z
UID:10001017-1897727400-1897731000@abcutah.org
SUMMARY:Women in Construction Committee
DESCRIPTION:
URL:https://abcutah.org/event/women-in-construction-forum-2/2030-02-19/
LOCATION:UT
CATEGORIES:Committees
END:VEVENT
BEGIN:VEVENT
DTSTART;TZID=America/Denver:20300305T100000
DTEND;TZID=America/Denver:20300305T110000
DTSTAMP:20260423T180941
CREATED:20240430T165423Z
LAST-MODIFIED:20240430T165434Z
UID:10000993-1898935200-1898938800@abcutah.org
SUMMARY:Safety Committee Meeting
DESCRIPTION:
URL:https://abcutah.org/event/safety-committee-meeting-2/2030-03-05/
LOCATION:ABC of Utah\, 660 W 900 N Suite B\, North Salt Lake\, UT\, United States
CATEGORIES:Committees
END:VEVENT
BEGIN:VEVENT
DTSTART;TZID=America/Denver:20300319T103000
DTEND;TZID=America/Denver:20300319T113000
DTSTAMP:20260423T180941
CREATED:20240430T165602Z
LAST-MODIFIED:20240430T165613Z
UID:10001018-1900146600-1900150200@abcutah.org
SUMMARY:Women in Construction Committee
DESCRIPTION:
URL:https://abcutah.org/event/women-in-construction-forum-2/2030-03-19/
LOCATION:UT
CATEGORIES:Committees
END:VEVENT
BEGIN:VEVENT
DTSTART;TZID=America/Denver:20300402T100000
DTEND;TZID=America/Denver:20300402T110000
DTSTAMP:20260423T180941
CREATED:20240430T165423Z
LAST-MODIFIED:20240430T165434Z
UID:10000994-1901354400-1901358000@abcutah.org
SUMMARY:Safety Committee Meeting
DESCRIPTION:
URL:https://abcutah.org/event/safety-committee-meeting-2/2030-04-02/
LOCATION:ABC of Utah\, 660 W 900 N Suite B\, North Salt Lake\, UT\, United States
CATEGORIES:Committees
END:VEVENT
BEGIN:VEVENT
DTSTART;TZID=America/Denver:20300416T103000
DTEND;TZID=America/Denver:20300416T113000
DTSTAMP:20260423T180941
CREATED:20240430T165602Z
LAST-MODIFIED:20240430T165613Z
UID:10001019-1902565800-1902569400@abcutah.org
SUMMARY:Women in Construction Committee
DESCRIPTION:
URL:https://abcutah.org/event/women-in-construction-forum-2/2030-04-16/
LOCATION:UT
CATEGORIES:Committees
END:VEVENT
BEGIN:VEVENT
DTSTART;TZID=America/Denver:20300507T100000
DTEND;TZID=America/Denver:20300507T110000
DTSTAMP:20260423T180941
CREATED:20240430T165423Z
LAST-MODIFIED:20240430T165434Z
UID:10000995-1904378400-1904382000@abcutah.org
SUMMARY:Safety Committee Meeting
DESCRIPTION:
URL:https://abcutah.org/event/safety-committee-meeting-2/2030-05-07/
LOCATION:ABC of Utah\, 660 W 900 N Suite B\, North Salt Lake\, UT\, United States
CATEGORIES:Committees
END:VEVENT
BEGIN:VEVENT
DTSTART;TZID=America/Denver:20300521T103000
DTEND;TZID=America/Denver:20300521T113000
DTSTAMP:20260423T180941
CREATED:20240430T165602Z
LAST-MODIFIED:20240430T165613Z
UID:10001020-1905589800-1905593400@abcutah.org
SUMMARY:Women in Construction Committee
DESCRIPTION:
URL:https://abcutah.org/event/women-in-construction-forum-2/2030-05-21/
LOCATION:UT
CATEGORIES:Committees
END:VEVENT
BEGIN:VEVENT
DTSTART;TZID=America/Denver:20300604T100000
DTEND;TZID=America/Denver:20300604T110000
DTSTAMP:20260423T180941
CREATED:20240430T165423Z
LAST-MODIFIED:20240430T165434Z
UID:10001021-1906797600-1906801200@abcutah.org
SUMMARY:Safety Committee Meeting
DESCRIPTION:
URL:https://abcutah.org/event/safety-committee-meeting-2/2030-06-04/
LOCATION:ABC of Utah\, 660 W 900 N Suite B\, North Salt Lake\, UT\, United States
CATEGORIES:Committees
END:VEVENT
BEGIN:VEVENT
DTSTART;TZID=America/Denver:20300618T103000
DTEND;TZID=America/Denver:20300618T113000
DTSTAMP:20260423T180941
CREATED:20240430T165602Z
LAST-MODIFIED:20240430T165613Z
UID:10001023-1908009000-1908012600@abcutah.org
SUMMARY:Women in Construction Committee
DESCRIPTION:
URL:https://abcutah.org/event/women-in-construction-forum-2/2030-06-18/
LOCATION:UT
CATEGORIES:Committees
END:VEVENT
BEGIN:VEVENT
DTSTART;TZID=America/Denver:20300702T100000
DTEND;TZID=America/Denver:20300702T110000
DTSTAMP:20260423T180941
CREATED:20240430T165423Z
LAST-MODIFIED:20240430T165434Z
UID:10001024-1909216800-1909220400@abcutah.org
SUMMARY:Safety Committee Meeting
DESCRIPTION:
URL:https://abcutah.org/event/safety-committee-meeting-2/2030-07-02/
LOCATION:ABC of Utah\, 660 W 900 N Suite B\, North Salt Lake\, UT\, United States
CATEGORIES:Committees
END:VEVENT
BEGIN:VEVENT
DTSTART;TZID=America/Denver:20300716T103000
DTEND;TZID=America/Denver:20300716T113000
DTSTAMP:20260423T180941
CREATED:20240430T165602Z
LAST-MODIFIED:20240430T165613Z
UID:10001026-1910428200-1910431800@abcutah.org
SUMMARY:Women in Construction Committee
DESCRIPTION:
URL:https://abcutah.org/event/women-in-construction-forum-2/2030-07-16/
LOCATION:UT
CATEGORIES:Committees
END:VEVENT
BEGIN:VEVENT
DTSTART;TZID=America/Denver:20300806T100000
DTEND;TZID=America/Denver:20300806T110000
DTSTAMP:20260423T180941
CREATED:20240430T165423Z
LAST-MODIFIED:20240430T165434Z
UID:10001027-1912240800-1912244400@abcutah.org
SUMMARY:Safety Committee Meeting
DESCRIPTION:
URL:https://abcutah.org/event/safety-committee-meeting-2/2030-08-06/
LOCATION:ABC of Utah\, 660 W 900 N Suite B\, North Salt Lake\, UT\, United States
CATEGORIES:Committees
END:VEVENT
BEGIN:VEVENT
DTSTART;TZID=America/Denver:20300820T103000
DTEND;TZID=America/Denver:20300820T113000
DTSTAMP:20260423T180941
CREATED:20240430T165602Z
LAST-MODIFIED:20240430T165613Z
UID:10001029-1913452200-1913455800@abcutah.org
SUMMARY:Women in Construction Committee
DESCRIPTION:
URL:https://abcutah.org/event/women-in-construction-forum-2/2030-08-20/
LOCATION:UT
CATEGORIES:Committees
END:VEVENT
BEGIN:VEVENT
DTSTART;TZID=America/Denver:20300903T100000
DTEND;TZID=America/Denver:20300903T110000
DTSTAMP:20260423T180941
CREATED:20240430T165423Z
LAST-MODIFIED:20240430T165434Z
UID:10001030-1914660000-1914663600@abcutah.org
SUMMARY:Safety Committee Meeting
DESCRIPTION:
URL:https://abcutah.org/event/safety-committee-meeting-2/2030-09-03/
LOCATION:ABC of Utah\, 660 W 900 N Suite B\, North Salt Lake\, UT\, United States
CATEGORIES:Committees
END:VEVENT
BEGIN:VEVENT
DTSTART;TZID=America/Denver:20300917T103000
DTEND;TZID=America/Denver:20300917T113000
DTSTAMP:20260423T180941
CREATED:20240430T165602Z
LAST-MODIFIED:20240430T165613Z
UID:10001032-1915871400-1915875000@abcutah.org
SUMMARY:Women in Construction Committee
DESCRIPTION:
URL:https://abcutah.org/event/women-in-construction-forum-2/2030-09-17/
LOCATION:UT
CATEGORIES:Committees
END:VEVENT
BEGIN:VEVENT
DTSTART;TZID=America/Denver:20301001T100000
DTEND;TZID=America/Denver:20301001T110000
DTSTAMP:20260423T180941
CREATED:20240430T165423Z
LAST-MODIFIED:20240430T165434Z
UID:10001033-1917079200-1917082800@abcutah.org
SUMMARY:Safety Committee Meeting
DESCRIPTION:
URL:https://abcutah.org/event/safety-committee-meeting-2/2030-10-01/
LOCATION:ABC of Utah\, 660 W 900 N Suite B\, North Salt Lake\, UT\, United States
CATEGORIES:Committees
END:VEVENT
BEGIN:VEVENT
DTSTART;TZID=America/Denver:20301015T103000
DTEND;TZID=America/Denver:20301015T113000
DTSTAMP:20260423T180941
CREATED:20240430T165602Z
LAST-MODIFIED:20240430T165613Z
UID:10001035-1918290600-1918294200@abcutah.org
SUMMARY:Women in Construction Committee
DESCRIPTION:
URL:https://abcutah.org/event/women-in-construction-forum-2/2030-10-15/
LOCATION:UT
CATEGORIES:Committees
END:VEVENT
BEGIN:VEVENT
DTSTART;TZID=America/Denver:20301105T100000
DTEND;TZID=America/Denver:20301105T110000
DTSTAMP:20260423T180941
CREATED:20240430T165423Z
LAST-MODIFIED:20240430T165434Z
UID:10001036-1920103200-1920106800@abcutah.org
SUMMARY:Safety Committee Meeting
DESCRIPTION:
URL:https://abcutah.org/event/safety-committee-meeting-2/2030-11-05/
LOCATION:ABC of Utah\, 660 W 900 N Suite B\, North Salt Lake\, UT\, United States
CATEGORIES:Committees
END:VEVENT
BEGIN:VEVENT
DTSTART;TZID=America/Denver:20301119T103000
DTEND;TZID=America/Denver:20301119T113000
DTSTAMP:20260423T180941
CREATED:20240430T165602Z
LAST-MODIFIED:20240430T165613Z
UID:10001038-1921314600-1921318200@abcutah.org
SUMMARY:Women in Construction Committee
DESCRIPTION:
URL:https://abcutah.org/event/women-in-construction-forum-2/2030-11-19/
LOCATION:UT
CATEGORIES:Committees
END:VEVENT
BEGIN:VEVENT
DTSTART;TZID=America/Denver:20301203T100000
DTEND;TZID=America/Denver:20301203T110000
DTSTAMP:20260423T180941
CREATED:20240430T165423Z
LAST-MODIFIED:20240430T165434Z
UID:10001039-1922522400-1922526000@abcutah.org
SUMMARY:Safety Committee Meeting
DESCRIPTION:
URL:https://abcutah.org/event/safety-committee-meeting-2/2030-12-03/
LOCATION:ABC of Utah\, 660 W 900 N Suite B\, North Salt Lake\, UT\, United States
CATEGORIES:Committees
END:VEVENT
BEGIN:VEVENT
DTSTART;TZID=America/Denver:20301217T103000
DTEND;TZID=America/Denver:20301217T113000
DTSTAMP:20260423T180941
CREATED:20240430T165602Z
LAST-MODIFIED:20240430T165613Z
UID:10001041-1923733800-1923737400@abcutah.org
SUMMARY:Women in Construction Committee
DESCRIPTION:
URL:https://abcutah.org/event/women-in-construction-forum-2/2030-12-17/
LOCATION:UT
CATEGORIES:Committees
END:VEVENT
BEGIN:VEVENT
DTSTART;TZID=America/Denver:20310107T100000
DTEND;TZID=America/Denver:20310107T110000
DTSTAMP:20260423T180941
CREATED:20240430T165423Z
LAST-MODIFIED:20240430T165434Z
UID:10001042-1925546400-1925550000@abcutah.org
SUMMARY:Safety Committee Meeting
DESCRIPTION:
URL:https://abcutah.org/event/safety-committee-meeting-2/2031-01-07/
LOCATION:ABC of Utah\, 660 W 900 N Suite B\, North Salt Lake\, UT\, United States
CATEGORIES:Committees
END:VEVENT
BEGIN:VEVENT
DTSTART;TZID=America/Denver:20310121T103000
DTEND;TZID=America/Denver:20310121T113000
DTSTAMP:20260423T180941
CREATED:20240430T165602Z
LAST-MODIFIED:20240430T165613Z
UID:10001044-1926757800-1926761400@abcutah.org
SUMMARY:Women in Construction Committee
DESCRIPTION:
URL:https://abcutah.org/event/women-in-construction-forum-2/2031-01-21/
LOCATION:UT
CATEGORIES:Committees
END:VEVENT
END:VCALENDAR