BEGIN:VCALENDAR
VERSION:2.0
PRODID:-//ABC of Utah - ECPv6.15.20//NONSGML v1.0//EN
CALSCALE:GREGORIAN
METHOD:PUBLISH
X-WR-CALNAME:ABC of Utah
X-ORIGINAL-URL:https://abcutah.org
X-WR-CALDESC:Events for ABC of Utah
REFRESH-INTERVAL;VALUE=DURATION:PT1H
X-Robots-Tag:noindex
X-PUBLISHED-TTL:PT1H
BEGIN:VTIMEZONE
TZID:America/Denver
BEGIN:DAYLIGHT
TZOFFSETFROM:-0700
TZOFFSETTO:-0600
TZNAME:MDT
DTSTART:20240310T090000
END:DAYLIGHT
BEGIN:STANDARD
TZOFFSETFROM:-0600
TZOFFSETTO:-0700
TZNAME:MST
DTSTART:20241103T080000
END:STANDARD
BEGIN:DAYLIGHT
TZOFFSETFROM:-0700
TZOFFSETTO:-0600
TZNAME:MDT
DTSTART:20250309T090000
END:DAYLIGHT
BEGIN:STANDARD
TZOFFSETFROM:-0600
TZOFFSETTO:-0700
TZNAME:MST
DTSTART:20251102T080000
END:STANDARD
BEGIN:DAYLIGHT
TZOFFSETFROM:-0700
TZOFFSETTO:-0600
TZNAME:MDT
DTSTART:20260308T090000
END:DAYLIGHT
BEGIN:STANDARD
TZOFFSETFROM:-0600
TZOFFSETTO:-0700
TZNAME:MST
DTSTART:20261101T080000
END:STANDARD
BEGIN:DAYLIGHT
TZOFFSETFROM:-0700
TZOFFSETTO:-0600
TZNAME:MDT
DTSTART:20270314T090000
END:DAYLIGHT
BEGIN:STANDARD
TZOFFSETFROM:-0600
TZOFFSETTO:-0700
TZNAME:MST
DTSTART:20271107T080000
END:STANDARD
END:VTIMEZONE
BEGIN:VEVENT
DTSTART;TZID=America/Denver:20260519T103000
DTEND;TZID=America/Denver:20260519T113000
DTSTAMP:20260423T161832
CREATED:20240430T165602Z
LAST-MODIFIED:20240430T165613Z
UID:10000827-1779186600-1779190200@abcutah.org
SUMMARY:Women in Construction Committee
DESCRIPTION:
URL:https://abcutah.org/event/women-in-construction-forum-2/2026-05-19/
CATEGORIES:Committees
END:VEVENT
BEGIN:VEVENT
DTSTART;TZID=America/Denver:20260505T100000
DTEND;TZID=America/Denver:20260505T110000
DTSTAMP:20260423T161832
CREATED:20240430T165423Z
LAST-MODIFIED:20240430T165434Z
UID:10000768-1777975200-1777978800@abcutah.org
SUMMARY:Safety Committee Meeting
DESCRIPTION:
URL:https://abcutah.org/event/safety-committee-meeting-2/2026-05-05/
LOCATION:ABC of Utah\, 660 W 900 N Suite B\, North Salt Lake\, UT\, United States
CATEGORIES:Committees
END:VEVENT
BEGIN:VEVENT
DTSTART;TZID=America/Denver:20260421T103000
DTEND;TZID=America/Denver:20260421T113000
DTSTAMP:20260423T161832
CREATED:20240430T165602Z
LAST-MODIFIED:20240430T165613Z
UID:10000826-1776767400-1776771000@abcutah.org
SUMMARY:Women in Construction Committee
DESCRIPTION:
URL:https://abcutah.org/event/women-in-construction-forum-2/2026-04-21/
CATEGORIES:Committees
END:VEVENT
BEGIN:VEVENT
DTSTART;TZID=America/Denver:20260407T100000
DTEND;TZID=America/Denver:20260407T110000
DTSTAMP:20260423T161832
CREATED:20240430T165423Z
LAST-MODIFIED:20240430T165434Z
UID:10000767-1775556000-1775559600@abcutah.org
SUMMARY:Safety Committee Meeting
DESCRIPTION:
URL:https://abcutah.org/event/safety-committee-meeting-2/2026-04-07/
LOCATION:ABC of Utah\, 660 W 900 N Suite B\, North Salt Lake\, UT\, United States
CATEGORIES:Committees
END:VEVENT
BEGIN:VEVENT
DTSTART;TZID=America/Denver:20260317T103000
DTEND;TZID=America/Denver:20260317T113000
DTSTAMP:20260423T161832
CREATED:20240430T165602Z
LAST-MODIFIED:20240430T165613Z
UID:10000825-1773743400-1773747000@abcutah.org
SUMMARY:Women in Construction Committee
DESCRIPTION:
URL:https://abcutah.org/event/women-in-construction-forum-2/2026-03-17/
CATEGORIES:Committees
END:VEVENT
BEGIN:VEVENT
DTSTART;TZID=America/Denver:20260303T100000
DTEND;TZID=America/Denver:20260303T110000
DTSTAMP:20260423T161832
CREATED:20240430T165423Z
LAST-MODIFIED:20240430T165434Z
UID:10000766-1772532000-1772535600@abcutah.org
SUMMARY:Safety Committee Meeting
DESCRIPTION:
URL:https://abcutah.org/event/safety-committee-meeting-2/2026-03-03/
LOCATION:ABC of Utah\, 660 W 900 N Suite B\, North Salt Lake\, UT\, United States
CATEGORIES:Committees
END:VEVENT
BEGIN:VEVENT
DTSTART;TZID=America/Denver:20260217T103000
DTEND;TZID=America/Denver:20260217T113000
DTSTAMP:20260423T161832
CREATED:20240430T165602Z
LAST-MODIFIED:20240430T165613Z
UID:10000824-1771324200-1771327800@abcutah.org
SUMMARY:Women in Construction Committee
DESCRIPTION:
URL:https://abcutah.org/event/women-in-construction-forum-2/2026-02-17/
CATEGORIES:Committees
END:VEVENT
BEGIN:VEVENT
DTSTART;TZID=America/Denver:20260203T100000
DTEND;TZID=America/Denver:20260203T110000
DTSTAMP:20260423T161832
CREATED:20240430T165423Z
LAST-MODIFIED:20240430T165434Z
UID:10000765-1770112800-1770116400@abcutah.org
SUMMARY:Safety Committee Meeting
DESCRIPTION:
URL:https://abcutah.org/event/safety-committee-meeting-2/2026-02-03/
LOCATION:ABC of Utah\, 660 W 900 N Suite B\, North Salt Lake\, UT\, United States
CATEGORIES:Committees
END:VEVENT
BEGIN:VEVENT
DTSTART;TZID=America/Denver:20260120T103000
DTEND;TZID=America/Denver:20260120T113000
DTSTAMP:20260423T161832
CREATED:20240430T165602Z
LAST-MODIFIED:20240430T165613Z
UID:10000823-1768905000-1768908600@abcutah.org
SUMMARY:Women in Construction Committee
DESCRIPTION:
URL:https://abcutah.org/event/women-in-construction-forum-2/2026-01-20/
CATEGORIES:Committees
END:VEVENT
BEGIN:VEVENT
DTSTART;TZID=America/Denver:20260106T100000
DTEND;TZID=America/Denver:20260106T110000
DTSTAMP:20260423T161832
CREATED:20240430T165423Z
LAST-MODIFIED:20240430T165434Z
UID:10000764-1767693600-1767697200@abcutah.org
SUMMARY:Safety Committee Meeting
DESCRIPTION:
URL:https://abcutah.org/event/safety-committee-meeting-2/2026-01-06/
LOCATION:ABC of Utah\, 660 W 900 N Suite B\, North Salt Lake\, UT\, United States
CATEGORIES:Committees
END:VEVENT
BEGIN:VEVENT
DTSTART;TZID=America/Denver:20251216T103000
DTEND;TZID=America/Denver:20251216T113000
DTSTAMP:20260423T161832
CREATED:20240430T165602Z
LAST-MODIFIED:20240430T165613Z
UID:10000822-1765881000-1765884600@abcutah.org
SUMMARY:Women in Construction Committee
DESCRIPTION:
URL:https://abcutah.org/event/women-in-construction-forum-2/2025-12-16/
CATEGORIES:Committees
END:VEVENT
BEGIN:VEVENT
DTSTART;TZID=America/Denver:20251202T100000
DTEND;TZID=America/Denver:20251202T110000
DTSTAMP:20260423T161832
CREATED:20240430T165423Z
LAST-MODIFIED:20240430T165434Z
UID:10000763-1764669600-1764673200@abcutah.org
SUMMARY:Safety Committee Meeting
DESCRIPTION:
URL:https://abcutah.org/event/safety-committee-meeting-2/2025-12-02/
LOCATION:ABC of Utah\, 660 W 900 N Suite B\, North Salt Lake\, UT\, United States
CATEGORIES:Committees
END:VEVENT
BEGIN:VEVENT
DTSTART;TZID=America/Denver:20251118T103000
DTEND;TZID=America/Denver:20251118T113000
DTSTAMP:20260423T161832
CREATED:20240430T165602Z
LAST-MODIFIED:20240430T165613Z
UID:10000821-1763461800-1763465400@abcutah.org
SUMMARY:Women in Construction Committee
DESCRIPTION:
URL:https://abcutah.org/event/women-in-construction-forum-2/2025-11-18/
CATEGORIES:Committees
END:VEVENT
BEGIN:VEVENT
DTSTART;TZID=America/Denver:20251104T100000
DTEND;TZID=America/Denver:20251104T110000
DTSTAMP:20260423T161832
CREATED:20240430T165423Z
LAST-MODIFIED:20240430T165434Z
UID:10000762-1762250400-1762254000@abcutah.org
SUMMARY:Safety Committee Meeting
DESCRIPTION:
URL:https://abcutah.org/event/safety-committee-meeting-2/2025-11-04/
LOCATION:ABC of Utah\, 660 W 900 N Suite B\, North Salt Lake\, UT\, United States
CATEGORIES:Committees
END:VEVENT
BEGIN:VEVENT
DTSTART;TZID=America/Denver:20251021T103000
DTEND;TZID=America/Denver:20251021T113000
DTSTAMP:20260423T161832
CREATED:20240430T165602Z
LAST-MODIFIED:20240430T165613Z
UID:10000820-1761042600-1761046200@abcutah.org
SUMMARY:Women in Construction Committee
DESCRIPTION:
URL:https://abcutah.org/event/women-in-construction-forum-2/2025-10-21/
CATEGORIES:Committees
END:VEVENT
BEGIN:VEVENT
DTSTART;TZID=America/Denver:20251007T100000
DTEND;TZID=America/Denver:20251007T110000
DTSTAMP:20260423T161832
CREATED:20240430T165423Z
LAST-MODIFIED:20240430T165434Z
UID:10000761-1759831200-1759834800@abcutah.org
SUMMARY:Safety Committee Meeting
DESCRIPTION:
URL:https://abcutah.org/event/safety-committee-meeting-2/2025-10-07/
LOCATION:ABC of Utah\, 660 W 900 N Suite B\, North Salt Lake\, UT\, United States
CATEGORIES:Committees
END:VEVENT
BEGIN:VEVENT
DTSTART;TZID=America/Denver:20250916T103000
DTEND;TZID=America/Denver:20250916T113000
DTSTAMP:20260423T161832
CREATED:20240430T165602Z
LAST-MODIFIED:20240430T165613Z
UID:10000819-1758018600-1758022200@abcutah.org
SUMMARY:Women in Construction Committee
DESCRIPTION:
URL:https://abcutah.org/event/women-in-construction-forum-2/2025-09-16/
CATEGORIES:Committees
END:VEVENT
BEGIN:VEVENT
DTSTART;TZID=America/Denver:20250902T100000
DTEND;TZID=America/Denver:20250902T110000
DTSTAMP:20260423T161832
CREATED:20240430T165423Z
LAST-MODIFIED:20240430T165434Z
UID:10000760-1756807200-1756810800@abcutah.org
SUMMARY:Safety Committee Meeting
DESCRIPTION:
URL:https://abcutah.org/event/safety-committee-meeting-2/2025-09-02/
LOCATION:ABC of Utah\, 660 W 900 N Suite B\, North Salt Lake\, UT\, United States
CATEGORIES:Committees
END:VEVENT
BEGIN:VEVENT
DTSTART;TZID=America/Denver:20250819T103000
DTEND;TZID=America/Denver:20250819T113000
DTSTAMP:20260423T161832
CREATED:20240430T165602Z
LAST-MODIFIED:20240430T165613Z
UID:10000818-1755599400-1755603000@abcutah.org
SUMMARY:Women in Construction Committee
DESCRIPTION:
URL:https://abcutah.org/event/women-in-construction-forum-2/2025-08-19/
CATEGORIES:Committees
END:VEVENT
BEGIN:VEVENT
DTSTART;TZID=America/Denver:20250805T100000
DTEND;TZID=America/Denver:20250805T110000
DTSTAMP:20260423T161832
CREATED:20240430T165423Z
LAST-MODIFIED:20240430T165434Z
UID:10000759-1754388000-1754391600@abcutah.org
SUMMARY:Safety Committee Meeting
DESCRIPTION:
URL:https://abcutah.org/event/safety-committee-meeting-2/2025-08-05/
LOCATION:ABC of Utah\, 660 W 900 N Suite B\, North Salt Lake\, UT\, United States
CATEGORIES:Committees
END:VEVENT
BEGIN:VEVENT
DTSTART;TZID=America/Denver:20250715T103000
DTEND;TZID=America/Denver:20250715T113000
DTSTAMP:20260423T161832
CREATED:20240430T165602Z
LAST-MODIFIED:20240430T165613Z
UID:10000817-1752575400-1752579000@abcutah.org
SUMMARY:Women in Construction Committee
DESCRIPTION:
URL:https://abcutah.org/event/women-in-construction-forum-2/2025-07-15/
CATEGORIES:Committees
END:VEVENT
BEGIN:VEVENT
DTSTART;TZID=America/Denver:20250701T100000
DTEND;TZID=America/Denver:20250701T110000
DTSTAMP:20260423T161832
CREATED:20240430T165423Z
LAST-MODIFIED:20240430T165434Z
UID:10000758-1751364000-1751367600@abcutah.org
SUMMARY:Safety Committee Meeting
DESCRIPTION:
URL:https://abcutah.org/event/safety-committee-meeting-2/2025-07-01/
LOCATION:ABC of Utah\, 660 W 900 N Suite B\, North Salt Lake\, UT\, United States
CATEGORIES:Committees
END:VEVENT
BEGIN:VEVENT
DTSTART;TZID=America/Denver:20250617T103000
DTEND;TZID=America/Denver:20250617T113000
DTSTAMP:20260423T161832
CREATED:20240430T165602Z
LAST-MODIFIED:20240430T165613Z
UID:10000816-1750156200-1750159800@abcutah.org
SUMMARY:Women in Construction Committee
DESCRIPTION:
URL:https://abcutah.org/event/women-in-construction-forum-2/2025-06-17/
CATEGORIES:Committees
END:VEVENT
BEGIN:VEVENT
DTSTART;TZID=America/Denver:20250603T100000
DTEND;TZID=America/Denver:20250603T110000
DTSTAMP:20260423T161832
CREATED:20240430T165423Z
LAST-MODIFIED:20240430T165434Z
UID:10000757-1748944800-1748948400@abcutah.org
SUMMARY:Safety Committee Meeting
DESCRIPTION:
URL:https://abcutah.org/event/safety-committee-meeting-2/2025-06-03/
LOCATION:ABC of Utah\, 660 W 900 N Suite B\, North Salt Lake\, UT\, United States
CATEGORIES:Committees
END:VEVENT
BEGIN:VEVENT
DTSTART;TZID=America/Denver:20250520T103000
DTEND;TZID=America/Denver:20250520T113000
DTSTAMP:20260423T161832
CREATED:20240430T165602Z
LAST-MODIFIED:20240430T165613Z
UID:10000815-1747737000-1747740600@abcutah.org
SUMMARY:Women in Construction Committee
DESCRIPTION:
URL:https://abcutah.org/event/women-in-construction-forum-2/2025-05-20/
CATEGORIES:Committees
END:VEVENT
BEGIN:VEVENT
DTSTART;TZID=America/Denver:20250506T100000
DTEND;TZID=America/Denver:20250506T110000
DTSTAMP:20260423T161832
CREATED:20240430T165423Z
LAST-MODIFIED:20240430T165434Z
UID:10000756-1746525600-1746529200@abcutah.org
SUMMARY:Safety Committee Meeting
DESCRIPTION:
URL:https://abcutah.org/event/safety-committee-meeting-2/2025-05-06/
LOCATION:ABC of Utah\, 660 W 900 N Suite B\, North Salt Lake\, UT\, United States
CATEGORIES:Committees
END:VEVENT
END:VCALENDAR